BEGIN:VCALENDAR
VERSION:2.0
PRODID:-//Järva Vallaraamatukogu - ECPv6.8.1//NONSGML v1.0//EN
CALSCALE:GREGORIAN
METHOD:PUBLISH
X-WR-CALNAME:Järva Vallaraamatukogu
X-ORIGINAL-URL:https://jarvaraamat.ee
X-WR-CALDESC:Events for Järva Vallaraamatukogu
REFRESH-INTERVAL;VALUE=DURATION:PT1H
X-Robots-Tag:noindex
X-PUBLISHED-TTL:PT1H
BEGIN:VTIMEZONE
TZID:Europe/Tallinn
BEGIN:DAYLIGHT
TZOFFSETFROM:+0200
TZOFFSETTO:+0300
TZNAME:EEST
DTSTART:20250330T010000
END:DAYLIGHT
BEGIN:STANDARD
TZOFFSETFROM:+0300
TZOFFSETTO:+0200
TZNAME:EET
DTSTART:20251026T010000
END:STANDARD
BEGIN:DAYLIGHT
TZOFFSETFROM:+0200
TZOFFSETTO:+0300
TZNAME:EEST
DTSTART:20260329T010000
END:DAYLIGHT
BEGIN:STANDARD
TZOFFSETFROM:+0300
TZOFFSETTO:+0200
TZNAME:EET
DTSTART:20261025T010000
END:STANDARD
END:VTIMEZONE
BEGIN:VEVENT
DTSTART;TZID=Europe/Tallinn:20251103T080000
DTEND;TZID=Europe/Tallinn:20251231T170000
DTSTAMP:20260420T130659
CREATED:20251106T105026Z
LAST-MODIFIED:20251106T105026Z
UID:22772-1762156800-1767200400@jarvaraamat.ee
SUMMARY:Näitus Imavere raamatukogus
DESCRIPTION:03.11-31.12.2025 on Imavere raamatukogus avatud Livia Kääri fotonäitus “Pilvede aeg”.
URL:https://jarvaraamat.ee/sundmus/naitus-imavere-raamatukogus-6/
CATEGORIES:Näitused
ATTACH;FMTTYPE=image/jpeg:https://jarvaraamat.ee/wp-content/uploads/2025/11/Livia-K22r_pilved-Imavere-scaled.jpg
END:VEVENT
BEGIN:VEVENT
DTSTART;TZID=Europe/Tallinn:20251124T100000
DTEND;TZID=Europe/Tallinn:20251230T170000
DTSTAMP:20260420T130659
CREATED:20251119T111713Z
LAST-MODIFIED:20251119T111713Z
UID:22796-1763978400-1767114000@jarvaraamat.ee
SUMMARY:Näitus Ambla raamatukogus
DESCRIPTION:Näitusel on üleval valitud illustratsioonid Anu Laansalu viiest päkapikuraamatust: “Päkapikke piilumas” (2018)\, “Taas päkapikke piilumas” (2019)\,  “Kevadised piilumised päkapikupere tegemistesse” (2022)\, “Suvepäev päkapikkudega” (2023) ja “Kadunud jõulukuljuse saladus” (2024).
URL:https://jarvaraamat.ee/sundmus/naitus-ambla-raamatukogus/
CATEGORIES:Näitused
ATTACH;FMTTYPE=image/png:https://jarvaraamat.ee/wp-content/uploads/2025/11/Anu-Laansalu_n2itus_Ambla.png
END:VEVENT
BEGIN:VEVENT
DTSTART;TZID=Europe/Tallinn:20251201T160000
DTEND;TZID=Europe/Tallinn:20251201T170000
DTSTAMP:20260420T130659
CREATED:20251118T141211Z
LAST-MODIFIED:20251118T141211Z
UID:22791-1764604800-1764608400@jarvaraamat.ee
SUMMARY:Jõulupärja valmistamise töötuba Koeru raamatukogus
DESCRIPTION:Koeru raamatukogus on 1. detsembril kell 16 võimalik osa võtta jõulupärja valmistamise töötoast. \nMaterjali panus on 5 eurot osaleja.
URL:https://jarvaraamat.ee/sundmus/jouluparja-valmistamise-tootuba-koeru-raamatukogus/
CATEGORIES:Koolitused
ATTACH;FMTTYPE=image/jpeg:https://jarvaraamat.ee/wp-content/uploads/2025/11/Koeru-j6oulup2rja-tootuba.jpeg
END:VEVENT
BEGIN:VEVENT
DTSTART;TZID=Europe/Tallinn:20251208T080000
DTEND;TZID=Europe/Tallinn:20260227T160000
DTSTAMP:20260420T130659
CREATED:20260108T094026Z
LAST-MODIFIED:20260108T094026Z
UID:22856-1765180800-1772208000@jarvaraamat.ee
SUMMARY:Näitus Aravete raamatukogus
DESCRIPTION:1. oktoobril avas Paide Kunstikool uue õppekoha Põhja-Järva Koolis\, Aravetel. Õpilaste juhendajaks/õpetajaks on Aravete kooli kunstiõpetaja Kai Vähter.Esiknäitust saab näha Aravete raamatukogus.
URL:https://jarvaraamat.ee/sundmus/naitus-aravete-raamatukogus-4/
CATEGORIES:Näitused
ATTACH;FMTTYPE=image/jpeg:https://jarvaraamat.ee/wp-content/uploads/2026/01/Naitus-Aravete-raamatukogus-1.jpg
END:VEVENT
BEGIN:VEVENT
DTSTART;TZID=Europe/Tallinn:20251209T090000
DTEND;TZID=Europe/Tallinn:20251223T130000
DTSTAMP:20260420T130659
CREATED:20251118T141413Z
LAST-MODIFIED:20251118T141413Z
UID:22793-1765270800-1766494800@jarvaraamat.ee
SUMMARY:Käsitöö näitusmüük Imavere raamatukogus
DESCRIPTION:9. detsembrist 23. detsembrini on taas võimalik külastada Imavere raamatukogu jõuluhõngulist käsitöö näitusmüüki. \n 
URL:https://jarvaraamat.ee/sundmus/kasitoo-naitusmuuk-imavere-raamatukogus-2/
CATEGORIES:Näitused
ATTACH;FMTTYPE=image/jpeg:https://jarvaraamat.ee/wp-content/uploads/2025/11/Kasitoo-joulunaitus-2025.jpg
END:VEVENT
BEGIN:VEVENT
DTSTART;TZID=Europe/Tallinn:20251211T080000
DTEND;TZID=Europe/Tallinn:20260115T170000
DTSTAMP:20260420T130659
CREATED:20260108T094218Z
LAST-MODIFIED:20260108T094218Z
UID:22859-1765440000-1768496400@jarvaraamat.ee
SUMMARY:Käsitöö näitus-müük
DESCRIPTION:Koeru raamatukogus on avatud Aili Kirsimetsa käsitöö näitus-müük.
URL:https://jarvaraamat.ee/sundmus/kasitoo-naitus-muuk-2/
CATEGORIES:Näitused
ATTACH;FMTTYPE=image/jpeg:https://jarvaraamat.ee/wp-content/uploads/2026/01/Aili-Kirsimetsa-naitus-Koerus.jpg
END:VEVENT
END:VCALENDAR