BEGIN:VCALENDAR
VERSION:2.0
PRODID:-//Järva Vallaraamatukogu - ECPv6.8.1//NONSGML v1.0//EN
CALSCALE:GREGORIAN
METHOD:PUBLISH
X-ORIGINAL-URL:https://jarvaraamat.ee
X-WR-CALDESC:Events for Järva Vallaraamatukogu
REFRESH-INTERVAL;VALUE=DURATION:PT1H
X-Robots-Tag:noindex
X-PUBLISHED-TTL:PT1H
BEGIN:VTIMEZONE
TZID:Europe/Tallinn
BEGIN:DAYLIGHT
TZOFFSETFROM:+0200
TZOFFSETTO:+0300
TZNAME:EEST
DTSTART:20250330T010000
END:DAYLIGHT
BEGIN:STANDARD
TZOFFSETFROM:+0300
TZOFFSETTO:+0200
TZNAME:EET
DTSTART:20251026T010000
END:STANDARD
END:VTIMEZONE
BEGIN:VEVENT
DTSTART;TZID=Europe/Tallinn:20251003T080000
DTEND;TZID=Europe/Tallinn:20251128T160000
DTSTAMP:20260420T143913
CREATED:20251003T105307Z
LAST-MODIFIED:20251003T105307Z
UID:22705-1759478400-1764345600@jarvaraamat.ee
SUMMARY:Näitus Aravete raamatukogus
DESCRIPTION:28. novembrini on võimalik Aravete raamatukogus taas nautida Tapa Muusika- ja Kunstikooli kunstnike värvide ja varjude mängu.
URL:https://jarvaraamat.ee/sundmus/naitus-aravete-raamatukogus-3/
CATEGORIES:Näitused
ATTACH;FMTTYPE=image/png:https://jarvaraamat.ee/wp-content/uploads/2025/10/Naitus-Aravete-raamatukogus.png
END:VEVENT
BEGIN:VEVENT
DTSTART;TZID=Europe/Tallinn:20251103T080000
DTEND;TZID=Europe/Tallinn:20251231T170000
DTSTAMP:20260420T143913
CREATED:20251106T105026Z
LAST-MODIFIED:20251106T105026Z
UID:22772-1762156800-1767200400@jarvaraamat.ee
SUMMARY:Näitus Imavere raamatukogus
DESCRIPTION:03.11-31.12.2025 on Imavere raamatukogus avatud Livia Kääri fotonäitus “Pilvede aeg”.
URL:https://jarvaraamat.ee/sundmus/naitus-imavere-raamatukogus-6/
CATEGORIES:Näitused
ATTACH;FMTTYPE=image/jpeg:https://jarvaraamat.ee/wp-content/uploads/2025/11/Livia-K22r_pilved-Imavere-scaled.jpg
END:VEVENT
BEGIN:VEVENT
DTSTART;TZID=Europe/Tallinn:20251110T170000
DTEND;TZID=Europe/Tallinn:20251110T183000
DTSTAMP:20260420T143913
CREATED:20251104T083459Z
LAST-MODIFIED:20251104T083459Z
UID:22759-1762794000-1762799400@jarvaraamat.ee
SUMMARY:Virve Osila 79. sünniaastapäeva kirjandusõhtu Albu raamatukogus
DESCRIPTION:10. novembril\, Virve Osila 79. sünniaastapäeval\, ootame teid südamlikule õhtule Albu raamatukokku\, kus meenutame armastatud luuletajat ja näitekirjanikku. Õhtut juhib Ester Valdvee. Räägime Virve elust ja loomingust\, loeme luulet ja katkendit näidendist ning jagame mälestusi.
URL:https://jarvaraamat.ee/sundmus/virve-osila-79-sunniaastapaeva-kirjandusohtu-albu-raamatukogus/
CATEGORIES:Üritused
ATTACH;FMTTYPE=image/jpeg:https://jarvaraamat.ee/wp-content/uploads/2025/11/Kirjandusohtu_Virve_Osila.jpg
END:VEVENT
BEGIN:VEVENT
DTSTART;TZID=Europe/Tallinn:20251113T180000
DTEND;TZID=Europe/Tallinn:20251113T200000
DTSTAMP:20260420T143913
CREATED:20251104T132238Z
LAST-MODIFIED:20251106T085355Z
UID:22762-1763056800-1763064000@jarvaraamat.ee
SUMMARY:Põhjamaade kulinaarne kirjandusõhtu Albus
DESCRIPTION:13. novembril kell 18 olete oodatud Albu mõisa Põhjamaade kulinaarsele kirjandusõhtule. \n\nkülas rahvusvaheline giid Berit Tomlinson lugudega Norrast\,\nõhtuhämaruses küünlavalgel loeb raamatut Alburahva Teatri näitleja Merike Kernu\,\nkulinaarsed katsetused Norra rahvusköögi ainetel MTÜ Albu Mõisa poolt 5 eurot.\n\nVajalik on eelregistreerimine (tel 5452 0022 Kaja). \nKirjandusõhtu toimub Järva Vallaraamatukogu Albu raamatukogu ja MTÜ Albu Mõis koostööna.
URL:https://jarvaraamat.ee/sundmus/pohjamaade-kulinaarne-kirjandusohtu-albus/
CATEGORIES:Üritused
ATTACH;FMTTYPE=image/png:https://jarvaraamat.ee/wp-content/uploads/2025/11/Pohjamaade-kirjanduse-nadala-plakat-13.11.25.png
END:VEVENT
BEGIN:VEVENT
DTSTART;TZID=Europe/Tallinn:20251124T100000
DTEND;TZID=Europe/Tallinn:20251230T170000
DTSTAMP:20260420T143913
CREATED:20251119T111713Z
LAST-MODIFIED:20251119T111713Z
UID:22796-1763978400-1767114000@jarvaraamat.ee
SUMMARY:Näitus Ambla raamatukogus
DESCRIPTION:Näitusel on üleval valitud illustratsioonid Anu Laansalu viiest päkapikuraamatust: “Päkapikke piilumas” (2018)\, “Taas päkapikke piilumas” (2019)\,  “Kevadised piilumised päkapikupere tegemistesse” (2022)\, “Suvepäev päkapikkudega” (2023) ja “Kadunud jõulukuljuse saladus” (2024).
URL:https://jarvaraamat.ee/sundmus/naitus-ambla-raamatukogus/
CATEGORIES:Näitused
ATTACH;FMTTYPE=image/png:https://jarvaraamat.ee/wp-content/uploads/2025/11/Anu-Laansalu_n2itus_Ambla.png
END:VEVENT
BEGIN:VEVENT
DTSTART;TZID=Europe/Tallinn:20251125T150000
DTEND;TZID=Europe/Tallinn:20251125T163000
DTSTAMP:20260420T143913
CREATED:20251119T112706Z
LAST-MODIFIED:20251119T112706Z
UID:22799-1764082800-1764088200@jarvaraamat.ee
SUMMARY:Tehisintellekt igapäevaelus - arutlusring
DESCRIPTION:Peetri raamatukogus saab 25. novembril kell 15 arutleda tehisintellekti üle. \nPS! Tegemist ei ole loengu ega koolitusega. Kõik on oodatud oma kogemusi jagama\, kuulama ja arutlema.
URL:https://jarvaraamat.ee/sundmus/tehisintellekt-igapaevaelus-arutlusring/
CATEGORIES:Üritused
ATTACH;FMTTYPE=image/jpeg:https://jarvaraamat.ee/wp-content/uploads/2025/11/8d1232f8-2cd2-471b-a909-882d0aaf3279.jpeg
END:VEVENT
BEGIN:VEVENT
DTSTART;TZID=Europe/Tallinn:20251128T190000
DTEND;TZID=Europe/Tallinn:20251128T220000
DTSTAMP:20260420T143913
CREATED:20251118T141013Z
LAST-MODIFIED:20251118T141013Z
UID:22786-1764356400-1764367200@jarvaraamat.ee
SUMMARY:Ööraamatukogu Päinurme kogukonnamajas
DESCRIPTION:28. novembril algusega kell 19 toimetab Päinurme kogukonnamajas ööraamatukogu. Õhtusse mahub bingo\, ettelugemine\, soe jook ja hea seltskond.
URL:https://jarvaraamat.ee/sundmus/ooraamatukogu-painurme-kogukonnamajas/
CATEGORIES:Üritused
ATTACH;FMTTYPE=image/jpeg:https://jarvaraamat.ee/wp-content/uploads/2025/11/ooraamatukogu_P2inurme.jpg
END:VEVENT
END:VCALENDAR