BEGIN:VCALENDAR
VERSION:2.0
PRODID:-//Järva Vallaraamatukogu - ECPv6.8.1//NONSGML v1.0//EN
CALSCALE:GREGORIAN
METHOD:PUBLISH
X-ORIGINAL-URL:https://jarvaraamat.ee
X-WR-CALDESC:Events for Järva Vallaraamatukogu
REFRESH-INTERVAL;VALUE=DURATION:PT1H
X-Robots-Tag:noindex
X-PUBLISHED-TTL:PT1H
BEGIN:VTIMEZONE
TZID:Europe/Tallinn
BEGIN:DAYLIGHT
TZOFFSETFROM:+0200
TZOFFSETTO:+0300
TZNAME:EEST
DTSTART:20250330T010000
END:DAYLIGHT
BEGIN:STANDARD
TZOFFSETFROM:+0300
TZOFFSETTO:+0200
TZNAME:EET
DTSTART:20251026T010000
END:STANDARD
END:VTIMEZONE
BEGIN:VEVENT
DTSTART;TZID=Europe/Tallinn:20250121T080000
DTEND;TZID=Europe/Tallinn:20250401T170000
DTSTAMP:20260421T002440
CREATED:20250210T132846Z
LAST-MODIFIED:20250210T132846Z
UID:22396-1737446400-1743526800@jarvaraamat.ee
SUMMARY:Näitus "Lugevad figuurid"
DESCRIPTION:Näitus “Lugevad figuurid” on pühendatud algavale eestikeelse raamatu aastale. \nNäitusel on 38 väikest lugevat figuuri. \nKogu omanik on Tiina Kull.
URL:https://jarvaraamat.ee/sundmus/naitus-lugevad-figuurid/
CATEGORIES:Näitused
ATTACH;FMTTYPE=image/jpeg:https://jarvaraamat.ee/wp-content/uploads/2025/02/Lugevad-figuurid-Imavere-rmk-s-scaled.jpg
END:VEVENT
BEGIN:VEVENT
DTSTART;TZID=Europe/Tallinn:20250312T100000
DTEND;TZID=Europe/Tallinn:20250430T170000
DTSTAMP:20260421T002440
CREATED:20250314T075711Z
LAST-MODIFIED:20250314T075711Z
UID:22472-1741773600-1746032400@jarvaraamat.ee
SUMMARY:Maalinäitus Ambla raamatukogus
DESCRIPTION:Ambla raamatukogus on aprilli lõpuni võimalik näha Salme Allikheina maale.
URL:https://jarvaraamat.ee/sundmus/maalinaitus-ambla-raamatukogus/
CATEGORIES:Näitused
ATTACH;FMTTYPE=image/png:https://jarvaraamat.ee/wp-content/uploads/2025/03/Aravete-naitus-3.png
END:VEVENT
BEGIN:VEVENT
DTSTART;TZID=Europe/Tallinn:20250325T080000
DTEND;TZID=Europe/Tallinn:20250430T170000
DTSTAMP:20260421T002440
CREATED:20250407T062842Z
LAST-MODIFIED:20250407T062923Z
UID:22501-1742889600-1746032400@jarvaraamat.ee
SUMMARY:Näitus Imavere raamatukogus
DESCRIPTION:Riina Pedosoni teemantmaalide näitus Imavere raamatukogus.
URL:https://jarvaraamat.ee/sundmus/naitus-imavere-raamatukogus/
CATEGORIES:Näitused
ATTACH;FMTTYPE=image/jpeg:https://jarvaraamat.ee/wp-content/uploads/2025/04/486309482_665521095859466_2675305863405768739_n.jpg
END:VEVENT
BEGIN:VEVENT
DTSTART;TZID=Europe/Tallinn:20250401T080000
DTEND;TZID=Europe/Tallinn:20250430T170000
DTSTAMP:20260421T002440
CREATED:20250407T062554Z
LAST-MODIFIED:20250407T062554Z
UID:22499-1743494400-1746032400@jarvaraamat.ee
SUMMARY:Väljapanek Ahula raamatukogus
DESCRIPTION:Ahula raamatukogus on imetlemiseks väljas üks tore öökullikogu. Väljapanek on avatud aprilli lõpuni.
URL:https://jarvaraamat.ee/sundmus/valjapanek-ahula-raamatukogus/
CATEGORIES:Näitused
ATTACH;FMTTYPE=image/png:https://jarvaraamat.ee/wp-content/uploads/2025/04/Valjapanek-Ahula-raamatukogus.png
END:VEVENT
BEGIN:VEVENT
DTSTART;TZID=Europe/Tallinn:20250401T080000
DTEND;TZID=Europe/Tallinn:20250504T170000
DTSTAMP:20260421T002440
CREATED:20250414T145442Z
LAST-MODIFIED:20250414T145832Z
UID:22508-1743494400-1746378000@jarvaraamat.ee
SUMMARY:Väljapanek Albu raamatukogus
DESCRIPTION:Albu raamatukogus saab mai alguseni tutvuda ühe vahva väljapanekuga!
URL:https://jarvaraamat.ee/sundmus/valjapanek-albu-raamatukogus/
CATEGORIES:Näitused
ATTACH;FMTTYPE=image/png:https://jarvaraamat.ee/wp-content/uploads/2025/04/Valjapanek-Ahula-raamatukogus-2.png
END:VEVENT
BEGIN:VEVENT
DTSTART;TZID=Europe/Tallinn:20250403T173000
DTEND;TZID=Europe/Tallinn:20250403T190000
DTSTAMP:20260421T002440
CREATED:20250314T080002Z
LAST-MODIFIED:20250314T080043Z
UID:22475-1743701400-1743706800@jarvaraamat.ee
SUMMARY:Külas kunstnik Kaja Liilia Fridolin
DESCRIPTION:3. aprillil kell 17.30 kohtub Ambla raamatukogus huvilistega Amblast pärit\, kuid nüüd Väike-Maarjas elav kunstnik Kaja Liilia Fridolin\, kes on koostanud loovkirjutamise kursuse abil oma perekonnaloo raamatu “Vaadates pühale puule”. \nKohapeal on võimalik raamatut osta. \nKohtumist toetab Eesti Kultuurkapital.
URL:https://jarvaraamat.ee/sundmus/kulas-kunstnik-kaja-liilia-fridolin/
CATEGORIES:Üritused
ATTACH;FMTTYPE=image/png:https://jarvaraamat.ee/wp-content/uploads/2025/03/Kaja-Liilia-Fridolin-Amblas_FB.png
END:VEVENT
BEGIN:VEVENT
DTSTART;TZID=Europe/Tallinn:20250407T080000
DTEND;TZID=Europe/Tallinn:20250516T170000
DTSTAMP:20260421T002440
CREATED:20250407T062447Z
LAST-MODIFIED:20250407T062447Z
UID:22495-1744012800-1747414800@jarvaraamat.ee
SUMMARY:Näitus Aravete raamatukogus
DESCRIPTION:Aravete raamatukogus on uus Tapa Muusika- ja Kunstikooli õpilaste näitus. Seekord on külastajatel võimalus näitusele oma pealkiri pakkuda.
URL:https://jarvaraamat.ee/sundmus/naitus-aravete-raamatukogus/
CATEGORIES:Näitused
ATTACH;FMTTYPE=image/png:https://jarvaraamat.ee/wp-content/uploads/2025/04/Valjapanek-Ahula-raamatukogus-1.png
END:VEVENT
BEGIN:VEVENT
DTSTART;TZID=Europe/Tallinn:20250425T170000
DTEND;TZID=Europe/Tallinn:20250425T183000
DTSTAMP:20260421T002440
CREATED:20250414T150030Z
LAST-MODIFIED:20250414T150100Z
UID:22514-1745600400-1745605800@jarvaraamat.ee
SUMMARY:Külas kirjanik Lea Jaanimaa
DESCRIPTION:25. aprillil kell 17 tuleb Järva-Jaani raamatukokku lugejatega kohtuma kirjanik Lea Jaanimaa.
URL:https://jarvaraamat.ee/sundmus/kulas-kirjanik-lea-jaanimaa/
CATEGORIES:Üritused
ATTACH;FMTTYPE=image/png:https://jarvaraamat.ee/wp-content/uploads/2025/04/Raamatuaasta-kulaliste-plakatid-raamatukogus.png
END:VEVENT
END:VCALENDAR