BEGIN:VCALENDAR
VERSION:2.0
PRODID:-//Järva Vallaraamatukogu - ECPv6.8.1//NONSGML v1.0//EN
CALSCALE:GREGORIAN
METHOD:PUBLISH
X-ORIGINAL-URL:https://jarvaraamat.ee
X-WR-CALDESC:Events for Järva Vallaraamatukogu
REFRESH-INTERVAL;VALUE=DURATION:PT1H
X-Robots-Tag:noindex
X-PUBLISHED-TTL:PT1H
BEGIN:VTIMEZONE
TZID:Europe/Tallinn
BEGIN:DAYLIGHT
TZOFFSETFROM:+0200
TZOFFSETTO:+0300
TZNAME:EEST
DTSTART:20240331T010000
END:DAYLIGHT
BEGIN:STANDARD
TZOFFSETFROM:+0300
TZOFFSETTO:+0200
TZNAME:EET
DTSTART:20241027T010000
END:STANDARD
END:VTIMEZONE
BEGIN:VEVENT
DTSTART;TZID=Europe/Tallinn:20240902T100000
DTEND;TZID=Europe/Tallinn:20241031T170000
DTSTAMP:20260421T091637
CREATED:20240902T122318Z
LAST-MODIFIED:20240902T122318Z
UID:22189-1725271200-1730394000@jarvaraamat.ee
SUMMARY:Kass Garfield 46!
DESCRIPTION:Kooliaasta alguses on kuulus kass Garfield vallutanud Imavere raamatukogu. Teda on igal pool: riiuli all ja riiuli peal\, raamatute vahel\, aknalaudadel.\n\n\nKui sind huvitab palju neid täpselt on\, siis tule ja loe kokku.\n\n\nNäitus on avatud oktoobrikuu lõpuni.
URL:https://jarvaraamat.ee/sundmus/kass-garfield-46/
CATEGORIES:Näitused
ATTACH;FMTTYPE=image/png:https://jarvaraamat.ee/wp-content/uploads/2024/09/Kass-Garfield-46.png
END:VEVENT
BEGIN:VEVENT
DTSTART;TZID=Europe/Tallinn:20240921T080000
DTEND;TZID=Europe/Tallinn:20241116T170000
DTSTAMP:20260421T091637
CREATED:20240921T171448Z
LAST-MODIFIED:20240921T171548Z
UID:22210-1726905600-1731776400@jarvaraamat.ee
SUMMARY:Tapa Kunstikooli maalide näitus
DESCRIPTION:Aravete raamatukogus on 16. novembrini avatud Tapa Kunstikooli maalide näitus.
URL:https://jarvaraamat.ee/sundmus/tapa-kunstikooli-maalide-naitus/
CATEGORIES:Näitused
ATTACH;FMTTYPE=image/png:https://jarvaraamat.ee/wp-content/uploads/2024/09/Tapa-Kunstikooli-Maalide-naitus-aravete.png
END:VEVENT
BEGIN:VEVENT
DTSTART;TZID=Europe/Tallinn:20241028T163000
DTEND;TZID=Europe/Tallinn:20241028T180000
DTSTAMP:20260421T091637
CREATED:20241008T180311Z
LAST-MODIFIED:20241008T180311Z
UID:22217-1730133000-1730138400@jarvaraamat.ee
SUMMARY:Kohtumine Sven Mikseriga
DESCRIPTION:Kohtumine menuromaani “Vareda” autori Sven Mikseriga Koeru raamatukogus.
URL:https://jarvaraamat.ee/sundmus/kohtumine-sven-mikseriga/
CATEGORIES:Üritused
ATTACH;FMTTYPE=image/png:https://jarvaraamat.ee/wp-content/uploads/2024/10/KOHTUMINE.png
END:VEVENT
END:VCALENDAR