BEGIN:VCALENDAR
VERSION:2.0
PRODID:-//Järva Vallaraamatukogu - ECPv6.8.1//NONSGML v1.0//EN
CALSCALE:GREGORIAN
METHOD:PUBLISH
X-WR-CALNAME:Järva Vallaraamatukogu
X-ORIGINAL-URL:https://jarvaraamat.ee
X-WR-CALDESC:Events for Järva Vallaraamatukogu
REFRESH-INTERVAL;VALUE=DURATION:PT1H
X-Robots-Tag:noindex
X-PUBLISHED-TTL:PT1H
BEGIN:VTIMEZONE
TZID:Europe/Tallinn
BEGIN:DAYLIGHT
TZOFFSETFROM:+0200
TZOFFSETTO:+0300
TZNAME:EEST
DTSTART:20210328T010000
END:DAYLIGHT
BEGIN:STANDARD
TZOFFSETFROM:+0300
TZOFFSETTO:+0200
TZNAME:EET
DTSTART:20211031T010000
END:STANDARD
BEGIN:DAYLIGHT
TZOFFSETFROM:+0200
TZOFFSETTO:+0300
TZNAME:EEST
DTSTART:20220327T010000
END:DAYLIGHT
BEGIN:STANDARD
TZOFFSETFROM:+0300
TZOFFSETTO:+0200
TZNAME:EET
DTSTART:20221030T010000
END:STANDARD
END:VTIMEZONE
BEGIN:VEVENT
DTSTART;TZID=Europe/Tallinn:20221205T100000
DTEND;TZID=Europe/Tallinn:20221220T170000
DTSTAMP:20260425T165102
CREATED:20221129T124354Z
LAST-MODIFIED:20221129T124857Z
UID:21725-1670234400-1671555600@jarvaraamat.ee
SUMMARY:
DESCRIPTION:Imavere raamatukogus jõulune käsitöö näitus-müük.
URL:https://jarvaraamat.ee/sundmus/21725/
CATEGORIES:Näitused
ATTACH;FMTTYPE=image/jpeg:https://jarvaraamat.ee/wp-content/uploads/2022/11/imavere_n2itusmyyk.jpg
END:VEVENT
BEGIN:VEVENT
DTSTART;TZID=Europe/Tallinn:20221101T100000
DTEND;TZID=Europe/Tallinn:20221130T170000
DTSTAMP:20260425T165102
CREATED:20221103T081204Z
LAST-MODIFIED:20221103T081204Z
UID:21705-1667296800-1669827600@jarvaraamat.ee
SUMMARY:
DESCRIPTION:1.-30. november on Ambla raamatukogus avatud väljapanek Astrid Lindgreni 115. sünniaastapäeva auks.
URL:https://jarvaraamat.ee/sundmus/21705/
CATEGORIES:Näitused
ATTACH;FMTTYPE=image/png:https://jarvaraamat.ee/wp-content/uploads/2022/11/Astrid-Lindgren_v2ljapanek_Ambla.png
END:VEVENT
BEGIN:VEVENT
DTSTART;TZID=Europe/Tallinn:20221101T090000
DTEND;TZID=Europe/Tallinn:20221130T170000
DTSTAMP:20260425T165102
CREATED:20221103T080935Z
LAST-MODIFIED:20221103T080935Z
UID:21702-1667293200-1669827600@jarvaraamat.ee
SUMMARY:
DESCRIPTION:1.-30. november on Koeru raamatukogus avatud Aili Kirsimetsa käsitöö näitus-müük.
URL:https://jarvaraamat.ee/sundmus/21702/
CATEGORIES:Näitused
ATTACH;FMTTYPE=image/jpeg:https://jarvaraamat.ee/wp-content/uploads/2022/11/313430792_201073902304190_7233011273704626414_n.jpg
END:VEVENT
BEGIN:VEVENT
DTSTART;TZID=Europe/Tallinn:20210301T080000
DTEND;TZID=Europe/Tallinn:20210501T170000
DTSTAMP:20260425T165102
CREATED:20210329T113330Z
LAST-MODIFIED:20210329T113330Z
UID:21025-1614585600-1619888400@jarvaraamat.ee
SUMMARY:Näitus "Nimi raamatu kaanel"
DESCRIPTION:Ahula raamatukogus on võimalik uudistada näitust ”  Minu nimi on  raamatu kaanel”. \nMine ja uudista\, kas leiad raamatu\, mille kaanel on sinu nimi.
URL:https://jarvaraamat.ee/sundmus/naitus-nimi-raamatu-kaanel/
CATEGORIES:Näitused
ATTACH;FMTTYPE=image/jpeg:https://jarvaraamat.ee/wp-content/uploads/2021/03/r1.jpg
END:VEVENT
END:VCALENDAR