BEGIN:VCALENDAR
VERSION:2.0
PRODID:-//Järva Vallaraamatukogu - ECPv6.8.1//NONSGML v1.0//EN
CALSCALE:GREGORIAN
METHOD:PUBLISH
X-WR-CALNAME:Järva Vallaraamatukogu
X-ORIGINAL-URL:https://jarvaraamat.ee
X-WR-CALDESC:Events for Järva Vallaraamatukogu
REFRESH-INTERVAL;VALUE=DURATION:PT1H
X-Robots-Tag:noindex
X-PUBLISHED-TTL:PT1H
BEGIN:VTIMEZONE
TZID:Europe/Tallinn
BEGIN:DAYLIGHT
TZOFFSETFROM:+0200
TZOFFSETTO:+0300
TZNAME:EEST
DTSTART:20250330T010000
END:DAYLIGHT
BEGIN:STANDARD
TZOFFSETFROM:+0300
TZOFFSETTO:+0200
TZNAME:EET
DTSTART:20251026T010000
END:STANDARD
END:VTIMEZONE
BEGIN:VEVENT
DTSTART;TZID=Europe/Tallinn:20250826T080000
DTEND;TZID=Europe/Tallinn:20251026T170000
DTSTAMP:20260420T172343
CREATED:20250827T115949Z
LAST-MODIFIED:20250827T120010Z
UID:22643-1756195200-1761498000@jarvaraamat.ee
SUMMARY:Näitus Imavere raamatukogus
DESCRIPTION:26. augustist 26. oktoobrini on võimalik Imavere raamatukogus imetleda Erika Sari töid\, mis on vaatajateni toodud näitusesarja “Käe ja südamega” raames. \nNäitusesarjas valminud tööd jutustavad vaikselt\, aga soojalt: meis igaühes on kunstnik peidus.
URL:https://jarvaraamat.ee/sundmus/naitus-imavere-raamatukogus-3/
CATEGORIES:Näitused
ATTACH;FMTTYPE=image/jpeg:https://jarvaraamat.ee/wp-content/uploads/2025/08/Kae-ja.jpg
END:VEVENT
BEGIN:VEVENT
DTSTART;TZID=Europe/Tallinn:20251003T080000
DTEND;TZID=Europe/Tallinn:20251128T160000
DTSTAMP:20260420T172343
CREATED:20251003T105307Z
LAST-MODIFIED:20251003T105307Z
UID:22705-1759478400-1764345600@jarvaraamat.ee
SUMMARY:Näitus Aravete raamatukogus
DESCRIPTION:28. novembrini on võimalik Aravete raamatukogus taas nautida Tapa Muusika- ja Kunstikooli kunstnike värvide ja varjude mängu.
URL:https://jarvaraamat.ee/sundmus/naitus-aravete-raamatukogus-3/
CATEGORIES:Näitused
ATTACH;FMTTYPE=image/png:https://jarvaraamat.ee/wp-content/uploads/2025/10/Naitus-Aravete-raamatukogus.png
END:VEVENT
BEGIN:VEVENT
DTSTART;TZID=Europe/Tallinn:20251015T080000
DTEND;TZID=Europe/Tallinn:20251031T140000
DTSTAMP:20260420T172343
CREATED:20251015T113235Z
LAST-MODIFIED:20251015T113235Z
UID:22729-1760515200-1761919200@jarvaraamat.ee
SUMMARY:Näitus Imavere raamatukogus
DESCRIPTION:Näitusesarjas “Käe ja südamega” valminud tööd jutustavad vaikselt\, aga soojalt: meis igaühes on kunstnik peidus. \nAutor Imavere noorsootöötaja Piret Ranne. \nNäitust saab imetleda oktoobrikuu lõpuni Imavere Raamatukogus.
URL:https://jarvaraamat.ee/sundmus/naitus-imavere-raamatukogus-5/
CATEGORIES:Näitused
ATTACH;FMTTYPE=image/jpeg:https://jarvaraamat.ee/wp-content/uploads/2025/10/MixCollage-15-Oct-2025-11-33-AM-8478-scaled.jpg
END:VEVENT
BEGIN:VEVENT
DTSTART;TZID=Europe/Tallinn:20251022T180000
DTEND;TZID=Europe/Tallinn:20251022T190000
DTSTAMP:20260420T172343
CREATED:20251015T074236Z
LAST-MODIFIED:20251015T074236Z
UID:22722-1761156000-1761159600@jarvaraamat.ee
SUMMARY:Külas kirjanik ja semiootik Valdur Mikita
DESCRIPTION:22. oktoobril kell 18 kohtume Albu raamatukogus kirjaniku ja semiootiku Valdur Mikitaga. Mikita tuntuimad teosed on “Metsik lingvistika”\, “Lingvistiline mets” ja “Lindvistika ehk metsa see lingvistika”\, kus ta arutleb eesti kultuuri\, eestlaste psühholoogia ja eestluse eripära teemadel.
URL:https://jarvaraamat.ee/sundmus/kulas-kirjanik-ja-semiootik-valdur-mikita/
CATEGORIES:Üritused
ATTACH;FMTTYPE=image/png:https://jarvaraamat.ee/wp-content/uploads/2025/10/Valdur-Mikita-Albu.png
END:VEVENT
END:VCALENDAR