BEGIN:VCALENDAR
VERSION:2.0
PRODID:-//Järva Vallaraamatukogu - ECPv6.8.1//NONSGML v1.0//EN
CALSCALE:GREGORIAN
METHOD:PUBLISH
X-ORIGINAL-URL:https://jarvaraamat.ee
X-WR-CALDESC:Events for Järva Vallaraamatukogu
REFRESH-INTERVAL;VALUE=DURATION:PT1H
X-Robots-Tag:noindex
X-PUBLISHED-TTL:PT1H
BEGIN:VTIMEZONE
TZID:Europe/Tallinn
BEGIN:DAYLIGHT
TZOFFSETFROM:+0200
TZOFFSETTO:+0300
TZNAME:EEST
DTSTART:20240331T010000
END:DAYLIGHT
BEGIN:STANDARD
TZOFFSETFROM:+0300
TZOFFSETTO:+0200
TZNAME:EET
DTSTART:20241027T010000
END:STANDARD
BEGIN:DAYLIGHT
TZOFFSETFROM:+0200
TZOFFSETTO:+0300
TZNAME:EEST
DTSTART:20250330T010000
END:DAYLIGHT
BEGIN:STANDARD
TZOFFSETFROM:+0300
TZOFFSETTO:+0200
TZNAME:EET
DTSTART:20251026T010000
END:STANDARD
END:VTIMEZONE
BEGIN:VEVENT
DTSTART;TZID=Europe/Tallinn:20241217T080000
DTEND;TZID=Europe/Tallinn:20250228T170000
DTSTAMP:20260421T044311
CREATED:20241218T084522Z
LAST-MODIFIED:20241218T084522Z
UID:22323-1734422400-1740762000@jarvaraamat.ee
SUMMARY:Salme Allikheina maalinäitus
DESCRIPTION:Salme Allikheina müstilise väega maalinäitust on võimalus Aravete raamatukokku vaatama minna veebruari lõpuni. Salme Allikhein on sündinud Järvamaal. Praegu elab Põltsamaal ja on osalenud Põltsamaa Kunstiseltsis selle loomisest alates. Tema isikunäituseid on olnud Eesti eri paigus\, sh ka Järvamaal: Paides\, Koerus\, Kirnas ja Amblas.
URL:https://jarvaraamat.ee/sundmus/salme-allikheina-maalinaitus/
CATEGORIES:Näitused
ATTACH;FMTTYPE=image/png:https://jarvaraamat.ee/wp-content/uploads/2024/12/Aravete-naitus-2.png
END:VEVENT
BEGIN:VEVENT
DTSTART;TZID=Europe/Tallinn:20250106T080000
DTEND;TZID=Europe/Tallinn:20250331T170000
DTSTAMP:20260421T044311
CREATED:20250108T130819Z
LAST-MODIFIED:20250108T130819Z
UID:22341-1736150400-1743440400@jarvaraamat.ee
SUMMARY:Fotonäitus Imavere raamatukogus
DESCRIPTION:Imavere raamatukogus saab märtsikuu lõpuni imetleda kauneid fotosid orhideedest. Fotod pärinevad Rainar Kurbeli ja Toomas Hirse Kreeka ja Türgi orhideematkadelt.
URL:https://jarvaraamat.ee/sundmus/fotonaitus-imavere-raamatukogus/
CATEGORIES:Näitused
ATTACH;FMTTYPE=image/jpeg:https://jarvaraamat.ee/wp-content/uploads/2025/01/Orhidee-fotode-naitus-Imavere-scaled.jpg
END:VEVENT
BEGIN:VEVENT
DTSTART;TZID=Europe/Tallinn:20250121T080000
DTEND;TZID=Europe/Tallinn:20250401T170000
DTSTAMP:20260421T044311
CREATED:20250210T132846Z
LAST-MODIFIED:20250210T132846Z
UID:22396-1737446400-1743526800@jarvaraamat.ee
SUMMARY:Näitus "Lugevad figuurid"
DESCRIPTION:Näitus “Lugevad figuurid” on pühendatud algavale eestikeelse raamatu aastale. \nNäitusel on 38 väikest lugevat figuuri. \nKogu omanik on Tiina Kull.
URL:https://jarvaraamat.ee/sundmus/naitus-lugevad-figuurid/
CATEGORIES:Näitused
ATTACH;FMTTYPE=image/jpeg:https://jarvaraamat.ee/wp-content/uploads/2025/02/Lugevad-figuurid-Imavere-rmk-s-scaled.jpg
END:VEVENT
BEGIN:VEVENT
DTSTART;TZID=Europe/Tallinn:20250203T080000
DTEND;TZID=Europe/Tallinn:20250228T170000
DTSTAMP:20260421T044311
CREATED:20250205T140803Z
LAST-MODIFIED:20250205T140803Z
UID:22380-1738569600-1740762000@jarvaraamat.ee
SUMMARY:Näitus
DESCRIPTION:Peetri raamatukogus on avatud Riina Pedosoni teemantmaalide näitus.
URL:https://jarvaraamat.ee/sundmus/naitus-2/
CATEGORIES:Näitused
ATTACH;FMTTYPE=image/jpeg:https://jarvaraamat.ee/wp-content/uploads/2025/02/1858f64d-538f-4258-a7dc-24aea10a7803.jpeg
END:VEVENT
BEGIN:VEVENT
DTSTART;TZID=Europe/Tallinn:20250203T080000
DTEND;TZID=Europe/Tallinn:20250331T170000
DTSTAMP:20260421T044311
CREATED:20250226T081257Z
LAST-MODIFIED:20250226T081257Z
UID:22421-1738569600-1743440400@jarvaraamat.ee
SUMMARY:Näitus Ahula raamatukogus
DESCRIPTION:Märtsi lõpuni on Ahula raamatukogus võimalik näha erinevaid aabitsaid.
URL:https://jarvaraamat.ee/sundmus/naitus-ahula-raamatukogus-2/
CATEGORIES:Näitused
ATTACH;FMTTYPE=image/png:https://jarvaraamat.ee/wp-content/uploads/2025/02/Ahula-raamatukogus-1.png
END:VEVENT
END:VCALENDAR