BEGIN:VCALENDAR
VERSION:2.0
PRODID:-//Järva Vallaraamatukogu - ECPv6.8.1//NONSGML v1.0//EN
CALSCALE:GREGORIAN
METHOD:PUBLISH
X-WR-CALNAME:Järva Vallaraamatukogu
X-ORIGINAL-URL:https://jarvaraamat.ee
X-WR-CALDESC:Events for Järva Vallaraamatukogu
REFRESH-INTERVAL;VALUE=DURATION:PT1H
X-Robots-Tag:noindex
X-PUBLISHED-TTL:PT1H
BEGIN:VTIMEZONE
TZID:Europe/Tallinn
BEGIN:DAYLIGHT
TZOFFSETFROM:+0200
TZOFFSETTO:+0300
TZNAME:EEST
DTSTART:20240331T010000
END:DAYLIGHT
BEGIN:STANDARD
TZOFFSETFROM:+0300
TZOFFSETTO:+0200
TZNAME:EET
DTSTART:20241027T010000
END:STANDARD
BEGIN:DAYLIGHT
TZOFFSETFROM:+0200
TZOFFSETTO:+0300
TZNAME:EEST
DTSTART:20250330T010000
END:DAYLIGHT
BEGIN:STANDARD
TZOFFSETFROM:+0300
TZOFFSETTO:+0200
TZNAME:EET
DTSTART:20251026T010000
END:STANDARD
END:VTIMEZONE
BEGIN:VEVENT
DTSTART;TZID=Europe/Tallinn:20241118T080000
DTEND;TZID=Europe/Tallinn:20241220T170000
DTSTAMP:20260421T073723
CREATED:20241118T125127Z
LAST-MODIFIED:20241118T125127Z
UID:22278-1731916800-1734714000@jarvaraamat.ee
SUMMARY:Käsitöö näitus-müük
DESCRIPTION:Aravete raamatukogus on 20. detsembrini avatud Neidi Sauli kootud kinnaste ja sokkide näitus-müük.
URL:https://jarvaraamat.ee/sundmus/kasitoo-naitus-muuk/
CATEGORIES:Näitused
ATTACH;FMTTYPE=image/png:https://jarvaraamat.ee/wp-content/uploads/2024/11/Nimetu-kujundus-5.png
END:VEVENT
BEGIN:VEVENT
DTSTART;TZID=Europe/Tallinn:20241203T080000
DTEND;TZID=Europe/Tallinn:20250110T170000
DTSTAMP:20260421T073723
CREATED:20241205T094219Z
LAST-MODIFIED:20241205T094219Z
UID:22291-1733212800-1736528400@jarvaraamat.ee
SUMMARY:Näitus Ahula raamatukogus
DESCRIPTION:3. detsembrist 10. jaanuarini on Ahula raamatukogus võimalik tutvuda nii uute kui ka vanade kommikarpidega. Tuli magusaisu või ei tulnud\, vähemalt saab meenutada…
URL:https://jarvaraamat.ee/sundmus/naitus-ahula-raamatukogus/
CATEGORIES:Näitused
ATTACH;FMTTYPE=image/jpeg:https://jarvaraamat.ee/wp-content/uploads/2024/12/74b47180-7439-49b0-a6f7-9d2acaf53f8e.jpg
END:VEVENT
BEGIN:VEVENT
DTSTART;TZID=Europe/Tallinn:20241209T080000
DTEND;TZID=Europe/Tallinn:20241220T140000
DTSTAMP:20260421T073723
CREATED:20241205T095401Z
LAST-MODIFIED:20241205T095401Z
UID:22301-1733731200-1734703200@jarvaraamat.ee
SUMMARY:Käsitöö näitusmüük Imavere raamatukogus
DESCRIPTION:Imavere raamatukogus on 9. detsembrist 20. detsembrini avatud jõuluhõnguline käsitöö näitusmüük.
URL:https://jarvaraamat.ee/sundmus/kasitoo-naitusmuuk-imavere-raamatukogus/
CATEGORIES:Näitused
ATTACH;FMTTYPE=image/jpeg:https://jarvaraamat.ee/wp-content/uploads/2024/12/Imavere-k2sitoo-n2itusmyyk.jpg
END:VEVENT
BEGIN:VEVENT
DTSTART;TZID=Europe/Tallinn:20241210T080000
DTEND;TZID=Europe/Tallinn:20250131T170000
DTSTAMP:20260421T073723
CREATED:20241213T102652Z
LAST-MODIFIED:20241213T102652Z
UID:22313-1733817600-1738342800@jarvaraamat.ee
SUMMARY:Näitus
DESCRIPTION:Koeru raamatukogus on avatud Riina Pedosoni teemantmaalide näitus.
URL:https://jarvaraamat.ee/sundmus/naitus/
CATEGORIES:Näitused
ATTACH;FMTTYPE=image/png:https://jarvaraamat.ee/wp-content/uploads/2024/12/Riina-Pedason-1.png
END:VEVENT
BEGIN:VEVENT
DTSTART;TZID=Europe/Tallinn:20241216T080000
DTEND;TZID=Europe/Tallinn:20250131T170000
DTSTAMP:20260421T073723
CREATED:20241218T084401Z
LAST-MODIFIED:20241218T084401Z
UID:22319-1734336000-1738342800@jarvaraamat.ee
SUMMARY:Tapa Kunstikooli näitus
DESCRIPTION:Jaanuari lõpuni on võimalik Aravete raamatukogus näha Tapa Kunstikooli õpilaste öökulli-teemalist maalinäitust.
URL:https://jarvaraamat.ee/sundmus/tapa-kunstikooli-naitus/
CATEGORIES:Näitused
ATTACH;FMTTYPE=image/png:https://jarvaraamat.ee/wp-content/uploads/2024/12/Aravete-naitus-1.png
END:VEVENT
BEGIN:VEVENT
DTSTART;TZID=Europe/Tallinn:20241217T080000
DTEND;TZID=Europe/Tallinn:20250228T170000
DTSTAMP:20260421T073723
CREATED:20241218T084522Z
LAST-MODIFIED:20241218T084522Z
UID:22323-1734422400-1740762000@jarvaraamat.ee
SUMMARY:Salme Allikheina maalinäitus
DESCRIPTION:Salme Allikheina müstilise väega maalinäitust on võimalus Aravete raamatukokku vaatama minna veebruari lõpuni. Salme Allikhein on sündinud Järvamaal. Praegu elab Põltsamaal ja on osalenud Põltsamaa Kunstiseltsis selle loomisest alates. Tema isikunäituseid on olnud Eesti eri paigus\, sh ka Järvamaal: Paides\, Koerus\, Kirnas ja Amblas.
URL:https://jarvaraamat.ee/sundmus/salme-allikheina-maalinaitus/
CATEGORIES:Näitused
ATTACH;FMTTYPE=image/png:https://jarvaraamat.ee/wp-content/uploads/2024/12/Aravete-naitus-2.png
END:VEVENT
END:VCALENDAR